Workbook

Sheet mieszkalne_koszty
B4: 0. Założenia ogólne
C6: wysokość kondygnacji: | D6: 3
C7: (kabel) włókna światłowodowe (2J): | D7: 1
C8: kable koncentryczne: | D8: 0
C9: kable miedziane UTP: | D9: 1
C10: mikrokanalizacja światłowodowa: | D10: 1
C12: umiejscowienie punktu dystrybucyjnego: | D12: 0
C14: operatorzy/dostawcy usług - k. miedziane: | D14: 5
C15: operatorzy/dostawcy usług - światłowody: | D15: 5
C16: operatorzy/dostawcy usług - k. koncentryczne: | D16: 0
C18: antena zbiorcza: radio i cyfrowa TV naziemna: | D18: 0
C19: antena zbiorcza: TV satelitarna: | D19: 0
C20: lokalne systemy teletechniczne: | D20: 1
C21: gniazdo abonenckie: | D21: 1
B24: 1. Od 2 do 3 mieszkań
C25: 1.1. Oszcowanie wariantów
C26: Warianty | D26: I | E26: II | F26: III | G26: IV
C27: Liczba mieszkań | D27: =D28*SUM(D29:D30) -> 2 | E27: =E28*SUM(E29:E30) -> 3 | F27: =F28*SUM(F29:F30) -> 3 | G27: =G28*SUM(G29:G30) -> 2
C28: kondygnacje | D28: 1 | E28: 1 | F28: 3 | G28: 2
C29: ilość lok na kondygnacji (lewo) | D29: 1 | E29: 1 | F29: 1 | G29: 1
C30: ilość lok na kondygnacji (prawo) | D30: 1 | E30: 2 | F30: 0 | G30: 0
C31: min (lewo) | D31: 0 | E31: 0 | F31: 0 | G31: 0
C32: max (lewo) | D32: 1 | E32: 5 | F32: 1 | G32: 1
C33: min (prawo) | D33: 0 | E33: 0 | F33: 0 | G33: 0
C34: max (prawo) | D34: 1 | E34: 1 | F34: 0 | G34: 0
C35: old od granicy działki | D35: 0 | E35: 0 | F35: 0 | G35: 0
C36: Wycena zaktualizowana | D36: 3188 | E36: 2401 | F36: 2556 | G36: 3361
C38: 1.2. Budynki o poszczególnej liczbie mieszkań
E39: liczba | F39: koszt modernizacji
C40: 2 mieszkania | D40: 2 | E40: =Arkusz3!B2 -> 322720 | F40: =AVERAGEIF($D$27:$G$27,D40,D36:G36) -> 3274.5
C41: 3 mieszkania | D41: 3 | E41: =Arkusz3!B3 -> 76277 | F41: =AVERAGEIF($D$27:$G$27,D41,D36:G36) -> 2478.5
C43: 1.3. Koszt modernizacji mieszkania dla grupy
C44: =SUMPRODUCT(E40:E41,F40:F41)/SUM(E40:E41) -> 3122.3272
B46: 2. Od 4 do 5 mieszkań
C47: 2.1. Oszcowanie wariantów
C48: Warianty | D48: 1 | E48: 2 | F48: 3 | G48: 4
C49: Liczba mieszkań | D49: =D50*SUM(D51:D52) -> 4 | E49: =E50*SUM(E51:E52) -> 4 | F49: =F50*SUM(F51:F52) -> 5 | G49: =G50*SUM(G51:G52) -> 5
C50: kondygnacje | D50: 2 | E50: 1 | F50: 5 | G50: 1
C51: ilość lok na kondygnacji (lewo) | D51: 1 | E51: 2 | F51: 1 | G51: 5
C52: ilość lok na kondygnacji (prawo) | D52: 1 | E52: 2 | F52: 0 | G52: 0
C53: min (lewo) | D53: 0
C54: max (lewo) | D54: 1 | E54: 5 | F54: 1 | G54: 20
C55: min (prawo) | D55: 0
C56: max (prawo) | D56: 1 | E56: 5 | F56: 0 | G56: 0
C57: old od granicy działki | D57: 0 | E57: 0 | F57: 0 | G57: 0
C58: Wycena zaktualizowana | D58: 2007 | E58: 1964 | F58: 1923 | G58: 1835
C60: 2.2. Budynki o poszczególnej liczbie mieszkań
E61: liczba | F61: koszt modernizacji
C62: 4 mieszkania | D62: 4 | E62: =Arkusz3!B4 -> 68708 | F62: =AVERAGEIF($D$49:$G$49,D62,$D$58:$G$58) -> 1985.5
C63: 5 mieszkań | D63: 5 | E63: =Arkusz3!B5 -> 35289 | F63: =AVERAGEIF($D$49:$G$49,D63,$D$58:$G$58) -> 1879
C65: 2.3. Koszt modernizacji mieszkania dla grupy
C66: =SUMPRODUCT(E62:E63,F62:F63)/SUM(E62:E63) -> 1949.3617
B68: 3. Od 6 do 9 mieszkań
C69: 3.1. Oszcowanie wariantów
C70: Warianty | D70: 1 | E70: 2 | F70: 3 | G70: 4 | H70: 5 | I70: 6 | J70: 7 | K70: 8 | L70: 9 | M70: 10
C71: Liczba mieszkań | D71: =D72*SUM(D73:D74) -> 6 | E71: =E72*SUM(E73:E74) -> 6 | F71: =F72*SUM(F73:F74) -> 6 | G71: =G72*SUM(G73:G74) -> 7 | H71: =H72*SUM(H73:H74) -> 7 | I71: =I72*SUM(I73:I74) -> 8 | J71: =J72*SUM(J73:J74) -> 8 | K71: =K72*SUM(K73:K74) -> 8 | ... M71: =M72*SUM(M73:M74) -> 9
C72: kondygnacje | D72: 2 | E72: 3 | F72: 1 | G72: 7 | H72: 1 | I72: 4 | J72: 2 | K72: 8 | L72: 3 | M72: 9
C73: ilość lok na kondygnacji (lewo) | D73: 3 | E73: 1 | F73: 3 | G73: 1 | H73: 3 | I73: 1 | J73: 2 | K73: 1 | L73: 3 | M73: 1
C74: ilość lok na kondygnacji (prawo) | D74: 0 | E74: 1 | F74: 3 | G74: 0 | H74: 4 | I74: 1 | J74: 2 | K74: 0 | L74: 0 | M74: 0
C75: min (lewo) | D75: 0 | E75: 0 | G75: 0 | I75: 0 | J75: 0 | L75: 0 | M75: 0
C76: max (lewo) | D76: 10 | E76: 1 | F76: 10 | G76: 1 | H76: 10 | I76: 1 | J76: 5 | K76: 1 | L76: 10 | M76: 1
C77: min (prawo) | D77: 0 | E77: 0 | F77: 0 | G77: 0 | I77: 0 | J77: 0 | L77: 0 | M77: 0
C78: max (prawo) | D78: =IF(D74=0,0,"") -> 0 | E78: 1 | F78: 10 | G78: =IF(G74=0,0,"") -> 0 | H78: 15 | I78: 1 | J78: 5 | K78: 0 | L78: =IF(L74=0,0,"") -> 0 | M78: =IF(M74=0,0,"") -> 0
C79: old od granicy działki | D79: 0 | E79: 0 | F79: 0 | G79: 0 | H79: 0 | I79: 0 | J79: 0 | K79: 0 | L79: 0 | M79: 0
C80: Wycena zaktualizowana | D80: 1654 | E80: 1609 | F80: 1581 | G80: 1690 | H80: 1519 | I80: 1441 | J80: 1396 | K80: 1617 | L80: 1413 | M80: 1565
C82: 3.2. Budynki o poszczególnej liczbie mieszkań
E83: liczba | F83: koszt modernizacji
C84: 6 mieszkań | D84: 6 | E84: =Arkusz3!B6 -> 45522 | F84: =AVERAGEIF($D$71:$M$71,D84,$D$80:$M$80) -> 1614.6667
C85: 7 mieszkań | D85: 7 | E85: =Arkusz3!B7 -> 21625 | F85: =AVERAGEIF($D$71:$M$71,D85,$D$80:$M$80) -> 1604.5
C86: 8 mieszkań | D86: 8 | E86: =Arkusz3!B8 -> 35926 | F86: =AVERAGEIF($D$71:$M$71,D86,$D$80:$M$80) -> 1484.6667
C87: 9 mieszkań | D87: 9 | E87: =Arkusz3!B9 -> 23046 | F87: =AVERAGEIF($D$71:$M$71,D87,$D$80:$M$80) -> 1489
C89: 3.3. Koszt modernizacji mieszkania dla grupy
C90: =SUMPRODUCT(E84:E87,F84:F87)/SUM(E84:E87) -> 1552.9286
B92: 4. Od 10 do 19 mieszkań
C93: 4.1. Oszcowanie wariantów
C94: Warianty | D94: 1 | E94: 2 | F94: 3 | G94: 4 | H94: 5 | I94: 6 | J94: 7 | K94: 8 | L94: 9 | M94: 10 | N94: 11 | O94: 12 | P94: 13 | Q94: 14
C95: Liczba mieszkań | D95: =D96*SUM(D97:D98) -> 10 | E95: =E96*SUM(E97:E98) -> 10 | F95: =F96*SUM(F97:F98) -> 10 | G95: =G96*SUM(G97:G98) -> 11 | H95: =H96*SUM(H97:H98) -> 12 | I95: =I96*SUM(I97:I98) -> 12 | J95: =J96*SUM(J97:J98) -> 13 | K95: =K96*SUM(K97:K98) -> 14 | ... Q95: =Q96*SUM(Q97:Q98) -> 18
C96: kondygnacje | D96: 5 | E96: 2 | F96: 10 | G96: 11 | H96: 6 | I96: 4 | J96: 13 | K96: 7 | L96: 5 | M96: 3 | N96: 8 | O96: 4 | P96: 6 | Q96: 3
C97: ilość lok na kondygnacji (lewo) | D97: 1 | E97: 5 | F97: 1 | G97: 1 | H97: 1 | I97: 3 | J97: 1 | K97: 1 | L97: 3 | M97: 2 | N97: 1 | O97: 2 | P97: 3 | Q97: 3
C98: ilość lok na kondygnacji (prawo) | D98: 1 | E98: 0 | F98: 0 | G98: 0 | H98: 1 | I98: 0 | J98: 0 | K98: 1 | L98: 0 | M98: 3 | N98: 1 | O98: 2 | P98: 0 | Q98: 3
C99: min (lewo) | D99: 0 | E99: 0 | F99: 0 | G99: 0 | H99: 0 | I99: 0 | J99: 0 | K99: 0 | L99: 0 | M99: 0 | N99: 0 | O99: 0 | P99: 0 | Q99: 0
C100: max (lewo) | D100: 1 | E100: 25 | F100: 1 | G100: 1 | H100: 1 | I100: 10 | J100: 1 | K100: 1 | L100: 10 | M100: 5 | N100: 1 | O100: 5 | P100: 10 | Q100: 10
C101: min (prawo) | D101: 0 | E101: 0 | F101: 0 | G101: 0 | H101: 0 | I101: 0 | J101: 0 | K101: 0 | L101: 0 | M101: 0 | N101: 0 | O101: 0 | P101: 0 | Q101: 0
C102: max (prawo) | D102: 1 | E102: =IF(E98=0,0,"") -> 0 | F102: 0 | G102: =IF(G98=0,0,"") -> 0 | H102: 1 | I102: =IF(I98=0,0,"") -> 0 | J102: =IF(J98=0,0,"") -> 0 | K102: 1 | L102: =IF(L98=0,0,"") -> 0 | M102: 15 | N102: 1 | O102: 5 | P102: =IF(P98=0,0,"") -> 0 | Q102: 10
C103: old od granicy działki | D103: 0 | E103: 0 | F103: 0 | G103: 0 | H103: 0 | I103: 0 | J103: 0 | K103: 0 | L103: 0 | M103: 0 | N103: 0 | O103: 0 | P103: 0 | Q103: 0
C104: Wycena zaktualizowana | D104: 1330 | E104: 1476 | F104: 1524 | G104: 1500 | H104: 1268 | I104: 1308 | J104: 1529 | K104: 1282 | L104: 1293 | M104: 1284 | N104: 1247 | O104: 1179 | P104: 1153 | Q104: 1055
C106: 4.2. Budynki o poszczególnej liczbie mieszkań
E107: liczba | F107: koszt modernizacji
C108: 10 mieszkań | D108: 10 | E108: =Arkusz3!B10 -> 46311 | F108: =AVERAGEIF($D$95:$Q$95,D108,$D$104:$Q$104) -> 1443.3333
C109: 11 mieszkań | D109: 11 | E109: =Arkusz3!B11 -> 11338 | F109: =AVERAGEIF($D$95:$Q$95,D109,$D$104:$Q$104) -> 1500
C110: 12 mieszkań | D110: 12 | E110: =Arkusz3!B12 -> 22967 | F110: =AVERAGEIF($D$95:$Q$95,D110,$D$104:$Q$104) -> 1288
C111: 13 mieszkań | D111: 13 | E111: =Arkusz3!B13 -> 6700 | F111: =AVERAGEIF($D$95:$Q$95,D111,$D$104:$Q$104) -> 1529
C112: 14 mieszkań | D112: 14 | E112: =Arkusz3!B14 -> 7158 | F112: =AVERAGEIF($D$95:$Q$95,D112,$D$104:$Q$104) -> 1282
C113: 15 mieszkań | D113: 15 | E113: =Arkusz3!B15 -> 24806 | F113: =AVERAGEIF($D$95:$Q$95,D113,$D$104:$Q$104) -> 1288.5
C114: 16 mieszkań | D114: 16 | E114: =Arkusz3!B16 -> 8200 | F114: =AVERAGEIF($D$95:$Q$95,D114,$D$104:$Q$104) -> 1213
C115: 18 mieszkań | D115: 18 | E115: =Arkusz3!B18 -> 8982 | F115: =AVERAGEIF($D$95:$Q$95,D115,$D$104:$Q$104) -> 1104
C117: 4.3. Koszt modernizacji mieszkania dla grupy
C118: =SUMPRODUCT(E108:E115,F108:F115)/SUM(E108:E115) -> 1353.3205
B120: 5. Od 20 do 49 mieszkań
C121: 5.1. Oszcowanie wariantów
...

Sheet Arkusz3
A1: 1 | B1: 5428651
A2: 2 | B2: 322720
A3: 3 | B3: 76277
A4: 4 | B4: 68708
A5: 5 | B5: 35289
A6: 6 | B6: 45522
A7: 7 | B7: 21625
A8: 8 | B8: 35926
A9: 9 | B9: 23046
A10: 10 | B10: 46311
A11: 11 | B11: 11338
A12: 12 | B12: 22967
... A49: 49 | B49: 452
A50: 50 | B50: 2819 | C50: x
A51: 51 | B51: 382
A52: 52 | B52: 481
A53: 53 | B53: 326
A54: 54 | B54: 638
A55: 55 | B55: 1332 | C55: x
A56: 56 | B56: 493
A57: 57 | B57: 278
A58: 58 | B58: 350
A59: 59 | B59: 428
A60: 60 | B60: 3242 | C60: x
A61: 61 | B61: 220
A62: 62 | B62: 236
A63: 63 | B63: 264
A64: 64 | B64: 496
A65: 65 | B65: 766
A66: 66 | B66: 871
A67: 67 | B67: 300
A68: 68 | B68: 342
A69: 69 | B69: 258
A70: 70 | B70: 1285 | C70: x
A71: 71 | B71: 263
A72: 72 | B72: 334
A73: 73 | B73: 163
A74: 74 | B74: 244
A75: 75 | B75: 1293 | C75: x
A76: 76 | B76: 222
A77: 77 | B77: 358
A78: 78 | B78: 199
A79: 79 | B79: 219
A80: 80 | B80: 750
A81: 81 | B81: 118
A82: 82 | B82: 159
A83: 83 | B83: 122
A84: 84 | B84: 211
A85: 85 | B85: 249
A86: 86 | B86: 138
A87: 87 | B87: 159
... A89: 89 | B89: 196
A90: 90 | B90: 815 | C90: x
A91: 91 | B91: 75
A92: 92 | B92: 107
A93: 93 | B93: 95
A94: 94 | B94: 215
A95: 95 | B95: 232
A96: 96 | B96: 150
A97: 97 | B97: 77
A98: 98 | B98: 114
A99: 99 | B99: 285
A100: 100 | B100: 538 | C100: x
A101: 101 | B101: 90
A102: 102 | B102: 65
A103: 103 | B103: 63
A104: 104 | B104: 109
A105: 105 | B105: 249
A106: 106 | B106: 74
A107: 107 | B107: 91
A108: 108 | B108: 85
A109: 109 | B109: 90
A110: 110 | B110: 243 | C110: x
A111: 111 | B111: 67
A112: 112 | B112: 58
A113: 113 | B113: 42
A114: 114 | B114: 65
A115: 115 | B115: 95
A116: 116 | B116: 54
A117: 117 | B117: 56
A118: 118 | B118: 77
A119: 119 | B119: 99
A120: 120 | B120: 329 | C120: x
A121: 121 | B121: 150 | C121: x
A122: 122 | B122: 33
A123: 123 | B123: 33
A124: 124 | B124: 45
A125: 125 | B125: 83
A126: 126 | B126: 25
A127: 127 | B127: 37
A128: 128 | B128: 77
A129: 129 | B129: 58
A130: 130 | B130: 78
A131: 131 | B131: 47
A132: 132 | B132: 98 | C132: x
A133: 133 | B133: 31
A134: 134 | B134: 31
A135: 135 | B135: 56
A136: 136 | B136: 30
A137: 137 | B137: 26
...

Sheet zbiorowe
B2: 0. Założenia ogólne
C4: wysokość kondygnacji: | D4: 3
C5: (kabel) włókna światłowodowe (2J): | D5: 1
C6: kable koncentryczne: | D6: 0
C7: kable miedziane UTP: | D7: 1
C8: mikrokanalizacja światłowodowa: | D8: 1
C10: umiejscowienie punktu dystrybucyjnego: | D10: 0
C12: operatorzy/dostawcy usług - k. miedziane: | D12: 5
C13: operatorzy/dostawcy usług - światłowody: | D13: 5
C14: operatorzy/dostawcy usług - k. koncentryczne: | D14: 0
C16: antena zbiorcza: radio i cyfrowa TV naziemna: | D16: 0
C17: antena zbiorcza: TV satelitarna: | D17: 0
C18: lokalne systemy teletechniczne: | D18: 1
C19: gniazdo abonenckie: | D19: 1
B21: 1. Akademini i domy studenckie
C22: 1.1. Oszcowanie wariantów
C23: Warianty | D23: 1 | E23: 2 | F23: 3
C24: Liczba lokali mieszkalnych | D24: =D25*SUM(D26:D27) -> 150 | E24: =E25*SUM(E26:E27) -> 50 | F24: =F25*SUM(F26:F27) -> 88
C25: kondygnacje | D25: 5 | E25: 5 | F25: 11
C26: ilość lok na kondygnacji (lewo) | D26: 15 | E26: 5 | F26: 4
C27: ilość lok na kondygnacji (prawo) | D27: 15 | E27: 5 | F27: 4
C28: min (lewo) | D28: 0 | E28: 0 | F28: 0 | L28: 147372.31
C29: max (lewo) | D29: =MAX(0,3*(D26-1)) -> 42 | E29: =MAX(0,3*(E26-1)) -> 12 | F29: =MAX(0,3*(F26-1)) -> 9 | L29: 43454.805
C30: min (prawo) | D30: 0 | E30: 0 | F30: 0 | L30: 81153.764
C31: max (prawo) | D31: =MAX(0,3*(D27-1)) -> 42 | E31: =MAX(0,3*(E27-1)) -> 12 | F31: =MAX(0,3*(F27-1)) -> 9 | L31: 19269.789
C32: old od granicy działki | D32: 0 | E32: 0 | F32: 0 | L32: 54133.911
C33: Wycena zaktualizowana | D33: 147372.31 | E33: 43454.805 | F33: 81153.764 | L33: 16057.509
L34: 31856.699
C35: 1.2. Średnia | L35: 33939.003
C36: Średnia | D36: =AVERAGE(D33:F33) -> 90660.295 | L36: 96493.408
L37: 37015.798
B38: 2. Domy mieszkalne dla osób starszych, domy opieki społecznej | L38: 87044.099
C39: 2.1. Oszcowanie wariantów | L39: 168516.32
C40: Warianty | D40: 1 | E40: 2 | F40: 3 | I40: =AVERAGE(D36,D53,D70,D87) -> 68025.618
C41: Liczba lokali mieszkalnych | D41: =D42*SUM(D43:D44) -> 20 | E41: =E42*SUM(E43:E44) -> 60 | F41: =F42*SUM(F43:F44) -> 16
C42: kondygnacje | D42: 2 | E42: 3 | F42: 2
C43: ilość lok na kondygnacji (lewo) | D43: 5 | E43: 10 | F43: 4
C44: ilość lok na kondygnacji (prawo) | D44: 5 | E44: 10 | F44: 4
C45: min (lewo) | D45: 0 | E45: 0 | F45: 0
C46: max (lewo) | D46: =MAX(0,3*(D43-1)) -> 12 | E46: =MAX(0,3*(E43-1)) -> 27 | F46: =MAX(0,3*(F43-1)) -> 9
C47: min (prawo) | D47: 0 | E47: 0 | F47: 0
C48: max (prawo) | D48: =MAX(0,3*(D44-1)) -> 12 | E48: =MAX(0,3*(E44-1)) -> 27 | F48: =MAX(0,3*(F44-1)) -> 9
C49: old od granicy działki | D49: 0 | E49: 0 | F49: 0
C50: Wycena zaktualizowana | D50: 19269.789 | E50: 54133.911 | F50: 16057.509
C52: 2.2. Średnia
C53: Średnia | D53: =AVERAGE(D50:F50) -> 29820.403
B55: 3. Hotele robotnicze
C56: 3.1. Oszcowanie wariantów
C57: Warianty | D57: 1 | E57: 2 | F57: 3
C58: Liczba lokali mieszkalnych | D58: =D59*SUM(D60:D61) -> 32 | E58: =E59*SUM(E60:E61) -> 36 | F58: =F59*SUM(F60:F61) -> 100
C59: kondygnacje | D59: 2 | E59: 3 | F59: 10
C60: ilość lok na kondygnacji (lewo) | D60: 8 | E60: 6 | F60: 5
C61: ilość lok na kondygnacji (prawo) | D61: 8 | E61: 6 | F61: 5
C62: min (lewo) | D62: 0 | E62: 0 | F62: 0
C63: max (lewo) | D63: =MAX(0,4*(D60-1)) -> 28 | E63: =MAX(0,4*(E60-1)) -> 20 | F63: =MAX(0,4*(F60-1)) -> 16
C64: min (prawo) | D64: 0 | E64: 0 | F64: 0
C65: max (prawo) | D65: =MAX(0,4*(D61-1)) -> 28 | E65: =MAX(0,4*(E61-1)) -> 20 | F65: =MAX(0,4*(F61-1)) -> 16
C66: old od granicy działki | D66: 0 | E66: 0 | F66: 0
C67: Wycena zaktualizowana | D67: 31856.699 | E67: 33939.003 | F67: 96493.408
C69: 3.2. Średnia
C70: Średnia | D70: =AVERAGE(D67:F67) -> 54096.37
B72: 4. Internety i bursy szkolne
C73: 4.1. Oszcowanie wariantów
C74: Warianty | D74: 1 | E74: 2 | F74: 3
C75: Liczba lokali mieszkalnych | D75: =D76*SUM(D77:D78) -> 40 | E75: =E76*SUM(E77:E78) -> 90 | F75: =F76*SUM(F77:F78) -> 160
C76: kondygnacje | D76: 2 | E76: 3 | F76: 4
C77: ilość lok na kondygnacji (lewo) | D77: 10 | E77: 15 | F77: 20
C78: ilość lok na kondygnacji (prawo) | D78: 10 | E78: 15 | F78: 20
C79: min (lewo) | D79: 0 | E79: 0 | F79: 0
C80: max (lewo) | D80: =MAX(0,3*(D77-1)) -> 27 | E80: =MAX(0,3*(E77-1)) -> 42 | F80: =MAX(0,3*(F77-1)) -> 57
C81: min (prawo) | D81: 0 | E81: 0 | F81: 0
C82: max (prawo) | D82: =MAX(0,3*(D78-1)) -> 27 | E82: =MAX(0,3*(E78-1)) -> 42 | F82: =MAX(0,3*(F78-1)) -> 57
C83: old od granicy działki | D83: 0 | E83: 0 | F83: 0
C84: Wycena zaktualizowana | D84: 37015.798 | E84: 87044.099 | F84: 168516.32
C86: 4.2. Średnia
C87: Średnia | D87: =AVERAGE(D84:F84) -> 97525.406

Sheet uzytecznosci
B3: 0. Założenia ogólne
C5: wysokość kondygnacji: | D5: 3
C6: (kabel) włókna światłowodowe (2J): | D6: 1
C7: kable koncentryczne: | D7: 0
C8: kable miedziane UTP: | D8: 1
C9: mikrokanalizacja światłowodowa: | D9: 1
C11: umiejscowienie punktu dystrybucyjnego: | D11: 0
C13: operatorzy/dostawcy usług - k. miedziane: | D13: 5
C14: operatorzy/dostawcy usług - światłowody: | D14: 5
C15: operatorzy/dostawcy usług - k. koncentryczne: | D15: 0
C17: antena zbiorcza: radio i cyfrowa TV naziemna: | D17: 0
C18: antena zbiorcza: TV satelitarna: | D18: 0
C19: lokalne systemy teletechniczne: | D19: 1
C20: gniazdo abonenckie: | D20: 1
B22: 1. (PKOB: 121) hotele i budynki zakwaterowania turystycznego
C23: 1.1. Oszcowanie wariantów
C24: średnia kubatura: 2 495 m3 | D24: 2495
C25: średnia wysokość kondygnacji: 3 metry | D25: 3
C26: średnia wielkość lokalu mieszkalnego: 20 m2 | D26: 15
C27: powierzchnia lokali mieszkalnych: 60% | D27: 0.8
C28: oszacowana średnia liczba gniazd abonenckich: | D28: =INT(((D24/D25)*D27)/D26) -> 44 | F28: =AVERAGE(D32:F32) -> 43.333333
C30: Warianty | D30: 1 | E30: 2 | F30: 3
D31: hotel | E31: schronisko turystyczne | F31: pensjonat
C32: Liczba lokali mieszkalnych | D32: =D33*(D34+D35) -> 100 | E32: =E33*(E34+E35) -> 18 | F32: =F33*(F34+F35) -> 12
C33: kondygnacje | D33: 10 | E33: 3 | F33: 2
C34: ilość lok na kondygnacji (lewo) | D34: 5 | E34: 2 | F34: 3
C35: ilość lok na kondygnacji (prawo) | D35: 5 | E35: 4 | F35: 3
C36: min (lewo) | D36: 0 | E36: 0 | F36: 0
C37: max (lewo) | D37: 15 | E37: 6 | F37: 9
C38: min (prawo) | D38: 0 | E38: 0 | F38: 0
C39: max (prawo) | D39: 15 | E39: 12 | F39: 9
C40: old od granicy działki | D40: 0 | E40: 0 | F40: 0 | L40: {=TRANSPOSE(D42:F42)} -> 104603
C41: wycena | D41: 95093.668 | E41: 18905.426 | F41: 13082.381 | L41: 20795
D42: =INT(1.1*D41) -> 104603 | E42: =INT(1.1*E41) -> 20795 | F42: =INT(1.1*F41) -> 14390 | L42: 14390
C43: 1.2. Średnia | L43: =D44 -> 46596
C44: Średnia | D44: =AVERAGE(D42:F42) -> 46596 | L44: {=TRANSPOSE(D66:F66)} -> 178462
L45: 62745
B46: 2. (PKOB: 1220) budynki biurowe | L46: 15953
C47: 2.1. Oszcowanie wariantów | L47: =D68 -> 85720
C48: è średnia kubatura: 7 770 m3 | D48: 7770 | L48: {=TRANSPOSE(D90:F90)} -> 33482
C49: è średnia wysokość kondygnacji: 3,5 metra | D49: 3.5 | L49: 10027
C50: è średnia wielkość pomieszczenia biurowego: 30 m2 | D50: 30 | L50: 5761
C51: è powierzchnia pomieszczeń biurowych: 80% | D51: 0.8 | L51: =D92 -> 16423.333
C52: oszacowana średnia liczba gniazd abonenckich: | D52: =INT(((D48/D49)*D51)/D50) -> 59 | F52: =AVERAGE(D56:F56) -> 60 | L52: {=TRANSPOSE(D114:F114)} -> 52243
L53: 9967
C54: Warianty | D54: 1 | E54: 2 | F54: 3 | L54: 6614
D55: duży budynek biurowy | E55: średni budynek biurowy | F55: mały budynek biurowy | L55: =D116 -> 22941.333
C56: Liczba lokali mieszkalnych | D56: =D57*(D58+D59) -> 120 | E56: =E57*(E58+E59) -> 48 | F56: =F57*(F58+F59) -> 12 | L56: {=TRANSPOSE(D140:F140)} -> 30389
C57: kondygnacje | D57: 10 | E57: 3 | F57: 2 | L57: 14960
C58: ilość lok na kondygnacji (lewo) | D58: 6 | E58: 8 | F58: 3 | L58: 6777
C59: ilość lok na kondygnacji (prawo) | D59: 6 | E59: 8 | F59: 3 | L59: =D142 -> 17375.333
C60: min (lewo) | D60: 0 | E60: 0 | F60: 0 | L60: {=TRANSPOSE(D164:F164)} -> 78706
C61: max (lewo) | D61: 50 | E61: 50 | F61: 15 | L61: 11509
C62: min (prawo) | D62: 0 | E62: 0 | F62: 0 | L62: 5761
C63: max (prawo) | D63: 50 | E63: 50 | F63: 15 | L63: =D166 -> 31992
C64: old od granicy działki | D64: 0 | E64: 0 | F64: 0 | L64: {=TRANSPOSE(D188:F188)} -> 99948
C65: wycena | D65: 162238.32 | E65: 57041.748 | F65: 14503.523 | L65: 39583
D66: =INT(1.1*D65) -> 178462 | E66: =INT(1.1*E65) -> 62745 | F66: =INT(1.1*F65) -> 15953 | L66: 20602
C67: 2.2. Średnia | L67: =D190 -> 53377.667
C68: Średnia | D68: =AVERAGE(D66:F66) -> 85720 | L68: {=TRANSPOSE(D214:F214)} -> 268413
L69: 35415
B70: 3. (PKOB: 1230) budynki handlowo-usługowe | L70: 8286
C71: 3.1. Oszcowanie wariantów | L71: =D216 -> 104038
C72: è średnia kubatura: 4 573 m3 | D72: 4573 | L72: {=TRANSPOSE(D240:F240)} -> 46943
C73: è średnia wysokość kondygnacji: 4 metry | D73: 4 | L73: 11297
C74: è średnia wielkość lokalu: 200 m2 | D74: 80 | L74: 6524
C75: è powierzchnia lokali: 80% | D75: 0.8 | L75: =D242 -> 21588
C76: oszacowana średnia liczba gniazd abonenckich: | D76: =INT(((D72/D73)*D75)/D74) -> 11 | F76: =AVERAGE(D80:F80) -> 12.333333 | L76: =D266 -> 11344
L77: =E266 -> 10027
C78: Warianty | D78: 1 | E78: 2 | F78: 3 | L78: =D268 -> 10685.5
D79: galeria handlowa | E79: pasaż handlowy | F79: samodzielny budynek handlowu lub usługowy
C80: Liczba lokali mieszkalnych | D80: =D81*(D82+D83) -> 30 | E80: =E81*(E82+E83) -> 6 | F80: =F81*(F82+F83) -> 1
C81: kondygnacje | D81: 3 | E81: 1 | F81: 1
C82: ilość lok na kondygnacji (lewo) | D82: 5 | E82: 3 | F82: 1
C83: ilość lok na kondygnacji (prawo) | D83: 5 | E83: 3 | F83: 0
C84: min (lewo) | D84: 0 | E84: 0 | F84: 0
C85: max (lewo) | D85: 20 | E85: 15 | F85: 1
C86: min (prawo) | D86: 0 | E86: 0 | F86: 0
C87: max (prawo) | D87: 20 | E87: 15 | F87: 0
C88: old od granicy działki | D88: 0 | E88: 0 | F88: 0
C89: wycena | D89: 30438.767 | E89: 9116.185 | F89: 5237.6998
D90: =INT(1.1*D89) -> 33482 | E90: =INT(1.1*E89) -> 10027 | F90: =INT(1.1*F89) -> 5761
C91: 3.2. Średnia
C92: Średnia | D92: =AVERAGE(D90:F90) -> 16423.333
B94: 4. (PKOB: 1241) budynki łączności, dworców i terminali
C95: 4.1. Oszcowanie wariantów
C96: è średnia kubatura: 10 382 m3 | D96: 10382
C97: è średnia wysokość kondygnacji: 10 metry | D97: 10
C98: è średnia wielkość stanowiska obsługi: 5 m2 | D98: 5
C99: è powierzchnia stanowisk obsługi: 10% | D99: 0.1
C100: oszacowana średnia liczba gniazd abonenckich: | D100: =INT(((D96/D97)*D99)/D98) -> 20 | F100: =AVERAGE(D104:F104) -> 19.666667
C102: Warianty | D102: 1 | E102: 2 | F102: 3
D103: duży terminal dworcowy | E103: średni terminal dworcowy | F103: mały terminal dworcowy
C104: Liczba lokali mieszkalnych | D104: =D105*(D106+D107) -> 50 | E104: =E105*(E106+E107) -> 7 | F104: =F105*(F106+F107) -> 2
C105: kondygnacje | D105: 2 | E105: 1 | F105: 1
C106: ilość lok na kondygnacji (lewo) | D106: 10 | E106: 4 | F106: 2
C107: ilość lok na kondygnacji (prawo) | D107: 15 | E107: 3 | F107: 0
C108: min (lewo) | D108: 0 | E108: 0 | F108: 0
C109: max (lewo) | D109: 20 | E109: 8 | F109: 8
C110: min (prawo) | D110: 0 | E110: 0 | F110: 0
...

Sheet Arkusz1
