Workbook

Sheet mieszkalne_koszty
B4: 0. Założenia ogólne
C6: wysokość kondygnacji: | D6: 3
C7: (kabel) włókna światłowodowe (2J): | D7: 1
C8: kable koncentryczne: | D8: 0
C9: kable miedziane UTP: | D9: 1
C10: mikrokanalizacja światłowodowa: | D10: 1
C12: umiejscowienie punktu dystrybucyjnego: | D12: 0
C14: operatorzy/dostawcy usług - k. miedziane: | D14: 5
C15: operatorzy/dostawcy usług - światłowody: | D15: 5
C16: operatorzy/dostawcy usług - k. koncentryczne: | D16: 0
C18: antena zbiorcza: radio i cyfrowa TV naziemna: | D18: 0
C19: antena zbiorcza: TV satelitarna: | D19: 0
C20: lokalne systemy teletechniczne: | D20: 1
C21: gniazdo abonenckie: | D21: 1
B24: 1. Od 2 do 3 mieszkań
C25: 1.1. Oszcowanie wariantów
C26: Warianty | D26: I | E26: II | F26: III | G26: IV
C27: Liczba mieszkań | D27: =D28*SUM(D29:D30) -> 2 | E27: =E28*SUM(E29:E30) -> 3 | F27: =F28*SUM(F29:F30) -> 3 | G27: =G28*SUM(G29:G30) -> 2
C28: kondygnacje | D28: 1 | E28: 1 | F28: 3 | G28: 2
C29: ilość lok na kondygnacji (lewo) | D29: 1 | E29: 1 | F29: 1 | G29: 1
C30: ilość lok na kondygnacji (prawo) | D30: 1 | E30: 2 | F30: 0 | G30: 0
C31: min (lewo) | D31: 0 | E31: 0 | F31: 0 | G31: 0
C32: max (lewo) | D32: 1 | E32: 5 | F32: 1 | G32: 1
C33: min (prawo) | D33: 0 | E33: 0 | F33: 0 | G33: 0
C34: max (prawo) | D34: 1 | E34: 1 | F34: 0 | G34: 0
C35: old od granicy działki | D35: 0 | E35: 0 | F35: 0 | G35: 0
C36: Wycena zaktualizowana | D36: 3188 | E36: 2401 | F36: 2556 | G36: 3361
C38: 1.2. Budynki o poszczególnej liczbie mieszkań
E39: liczba | F39: koszt modernizacji
C40: 2 mieszkania | D40: 2 | E40: =Arkusz3!B2 -> 322720 | F40: =AVERAGEIF($D$27:$G$27,D40,D36:G36) -> 3274.5
C41: 3 mieszkania | D41: 3 | E41: =Arkusz3!B3 -> 76277 | F41: =AVERAGEIF($D$27:$G$27,D41,D36:G36) -> 2478.5
C43: 1.3. Koszt modernizacji mieszkania dla grupy
C44: =SUMPRODUCT(E40:E41,F40:F41)/SUM(E40:E41) -> 3122.3272
B46: 2. Od 4 do 5 mieszkań
C47: 2.1. Oszcowanie wariantów
C48: Warianty | D48: 1 | E48: 2 | F48: 3 | G48: 4
C49: Liczba mieszkań | D49: =D50*SUM(D51:D52) -> 4 | E49: =E50*SUM(E51:E52) -> 4 | F49: =F50*SUM(F51:F52) -> 5 | G49: =G50*SUM(G51:G52) -> 5
C50: kondygnacje | D50: 2 | E50: 1 | F50: 5 | G50: 1
C51: ilość lok na kondygnacji (lewo) | D51: 1 | E51: 2 | F51: 1 | G51: 5
C52: ilość lok na kondygnacji (prawo) | D52: 1 | E52: 2 | F52: 0 | G52: 0
...

Sheet Arkusz3
A1: 1 | B1: 5428651
A2: 2 | B2: 322720
A3: 3 | B3: 76277
A4: 4 | B4: 68708
A5: 5 | B5: 35289
A6: 6 | B6: 45522
A7: 7 | B7: 21625
A8: 8 | B8: 35926
A9: 9 | B9: 23046
A10: 10 | B10: 46311
A11: 11 | B11: 11338
A12: 12 | B12: 22967
... A49: 49 | B49: 452
A50: 50 | B50: 2819 | C50: x
A51: 51 | B51: 382
A52: 52 | B52: 481
A53: 53 | B53: 326
A54: 54 | B54: 638
A55: 55 | B55: 1332 | C55: x
A56: 56 | B56: 493
A57: 57 | B57: 278
A58: 58 | B58: 350
A59: 59 | B59: 428
A60: 60 | B60: 3242 | C60: x
A61: 61 | B61: 220
A62: 62 | B62: 236
A63: 63 | B63: 264
A64: 64 | B64: 496
A65: 65 | B65: 766
A66: 66 | B66: 871
A67: 67 | B67: 300
A68: 68 | B68: 342
A69: 69 | B69: 258
A70: 70 | B70: 1285 | C70: x
A71: 71 | B71: 263
A72: 72 | B72: 334
A73: 73 | B73: 163
A74: 74 | B74: 244
A75: 75 | B75: 1293 | C75: x
A76: 76 | B76: 222
...

Sheet zbiorowe
B2: 0. Założenia ogólne
C4: wysokość kondygnacji: | D4: 3
C5: (kabel) włókna światłowodowe (2J): | D5: 1
C6: kable koncentryczne: | D6: 0
C7: kable miedziane UTP: | D7: 1
C8: mikrokanalizacja światłowodowa: | D8: 1
C10: umiejscowienie punktu dystrybucyjnego: | D10: 0
C12: operatorzy/dostawcy usług - k. miedziane: | D12: 5
C13: operatorzy/dostawcy usług - światłowody: | D13: 5
C14: operatorzy/dostawcy usług - k. koncentryczne: | D14: 0
C16: antena zbiorcza: radio i cyfrowa TV naziemna: | D16: 0
C17: antena zbiorcza: TV satelitarna: | D17: 0
C18: lokalne systemy teletechniczne: | D18: 1
C19: gniazdo abonenckie: | D19: 1
B21: 1. Akademini i domy studenckie
C22: 1.1. Oszcowanie wariantów
C23: Warianty | D23: 1 | E23: 2 | F23: 3
C24: Liczba lokali mieszkalnych | D24: =D25*SUM(D26:D27) -> 150 | E24: =E25*SUM(E26:E27) -> 50 | F24: =F25*SUM(F26:F27) -> 88
C25: kondygnacje | D25: 5 | E25: 5 | F25: 11
C26: ilość lok na kondygnacji (lewo) | D26: 15 | E26: 5 | F26: 4
C27: ilość lok na kondygnacji (prawo) | D27: 15 | E27: 5 | F27: 4
C28: min (lewo) | D28: 0 | E28: 0 | F28: 0 | L28: 147372.31
C29: max (lewo) | D29: =MAX(0,3*(D26-1)) -> 42 | E29: =MAX(0,3*(E26-1)) -> 12 | F29: =MAX(0,3*(F26-1)) -> 9 | L29: 43454.805
C30: min (prawo) | D30: 0 | E30: 0 | F30: 0 | L30: 81153.764
C31: max (prawo) | D31: =MAX(0,3*(D27-1)) -> 42 | E31: =MAX(0,3*(E27-1)) -> 12 | F31: =MAX(0,3*(F27-1)) -> 9 | L31: 19269.789
C32: old od granicy działki | D32: 0 | E32: 0 | F32: 0 | L32: 54133.911
C33: Wycena zaktualizowana | D33: 147372.31 | E33: 43454.805 | F33: 81153.764 | L33: 16057.509
L34: 31856.699
C35: 1.2. Średnia | L35: 33939.003
C36: Średnia | D36: =AVERAGE(D33:F33) -> 90660.295 | L36: 96493.408
L37: 37015.798
B38: 2. Domy mieszkalne dla osób starszych, domy opieki społecznej | L38: 87044.099
C39: 2.1. Oszcowanie wariantów | L39: 168516.32
C40: Warianty | D40: 1 | E40: 2 | F40: 3 | I40: =AVERAGE(D36,D53,D70,D87) -> 68025.618
C41: Liczba lokali mieszkalnych | D41: =D42*SUM(D43:D44) -> 20 | E41: =E42*SUM(E43:E44) -> 60 | F41: =F42*SUM(F43:F44) -> 16
C42: kondygnacje | D42: 2 | E42: 3 | F42: 2
C43: ilość lok na kondygnacji (lewo) | D43: 5 | E43: 10 | F43: 4
C44: ilość lok na kondygnacji (prawo) | D44: 5 | E44: 10 | F44: 4
C45: min (lewo) | D45: 0 | E45: 0 | F45: 0
C46: max (lewo) | D46: =MAX(0,3*(D43-1)) -> 12 | E46: =MAX(0,3*(E43-1)) -> 27 | F46: =MAX(0,3*(F43-1)) -> 9
...

Sheet uzytecznosci
B3: 0. Założenia ogólne
C5: wysokość kondygnacji: | D5: 3
C6: (kabel) włókna światłowodowe (2J): | D6: 1
C7: kable koncentryczne: | D7: 0
C8: kable miedziane UTP: | D8: 1
C9: mikrokanalizacja światłowodowa: | D9: 1
C11: umiejscowienie punktu dystrybucyjnego: | D11: 0
C13: operatorzy/dostawcy usług - k. miedziane: | D13: 5
C14: operatorzy/dostawcy usług - światłowody: | D14: 5
C15: operatorzy/dostawcy usług - k. koncentryczne: | D15: 0
C17: antena zbiorcza: radio i cyfrowa TV naziemna: | D17: 0
C18: antena zbiorcza: TV satelitarna: | D18: 0
C19: lokalne systemy teletechniczne: | D19: 1
C20: gniazdo abonenckie: | D20: 1
B22: 1. (PKOB: 121) hotele i budynki zakwaterowania turystycznego
C23: 1.1. Oszcowanie wariantów
C24: średnia kubatura: 2 495 m3 | D24: 2495
C25: średnia wysokość kondygnacji: 3 metry | D25: 3
C26: średnia wielkość lokalu mieszkalnego: 20 m2 | D26: 15
C27: powierzchnia lokali mieszkalnych: 60% | D27: 0.8
C28: oszacowana średnia liczba gniazd abonenckich: | D28: =INT(((D24/D25)*D27)/D26) -> 44 | F28: =AVERAGE(D32:F32) -> 43.333333
C30: Warianty | D30: 1 | E30: 2 | F30: 3
D31: hotel | E31: schronisko turystyczne | F31: pensjonat
C32: Liczba lokali mieszkalnych | D32: =D33*(D34+D35) -> 100 | E32: =E33*(E34+E35) -> 18 | F32: =F33*(F34+F35) -> 12
C33: kondygnacje | D33: 10 | E33: 3 | F33: 2
C34: ilość lok na kondygnacji (lewo) | D34: 5 | E34: 2 | F34: 3
C35: ilość lok na kondygnacji (prawo) | D35: 5 | E35: 4 | F35: 3
C36: min (lewo) | D36: 0 | E36: 0 | F36: 0
C37: max (lewo) | D37: 15 | E37: 6 | F37: 9
C38: min (prawo) | D38: 0 | E38: 0 | F38: 0
C39: max (prawo) | D39: 15 | E39: 12 | F39: 9
C40: old od granicy działki | D40: 0 | E40: 0 | F40: 0 | L40: {=TRANSPOSE(D42:F42)} -> 104603
C41: wycena | D41: 95093.668 | E41: 18905.426 | F41: 13082.381 | L41: 20795
D42: =INT(1.1*D41) -> 104603 | E42: =INT(1.1*E41) -> 20795 | F42: =INT(1.1*F41) -> 14390 | L42: 14390
C43: 1.2. Średnia | L43: =D44 -> 46596
C44: Średnia | D44: =AVERAGE(D42:F42) -> 46596 | L44: {=TRANSPOSE(D66:F66)} -> 178462
L45: 62745
B46: 2. (PKOB: 1220) budynki biurowe | L46: 15953
C47: 2.1. Oszcowanie wariantów | L47: =D68 -> 85720
C48: è średnia kubatura: 7 770 m3 | D48: 7770 | L48: {=TRANSPOSE(D90:F90)} -> 33482
...

Sheet Arkusz1
